BEGIN:VCALENDAR
VERSION:2.0
PRODID:-// - ECPv4.9.4//NONSGML v1.0//EN
CALSCALE:GREGORIAN
METHOD:PUBLISH
X-ORIGINAL-URL:http://www.sticknstone.com.au
X-WR-CALDESC:Events for 
BEGIN:VTIMEZONE
TZID:"UTC"
BEGIN:STANDARD
TZOFFSETFROM:+0000
TZOFFSETTO:+0000
TZNAME:UTC
DTSTART:20200101T000000
END:STANDARD
END:VTIMEZONE
BEGIN:VEVENT
DTSTART;TZID="UTC":20200118T100000
DTEND;TZID="UTC":20200118T130000
DTSTAMP:20200302T011319
CREATED:20191107T030857Z
LAST-MODIFIED:20191107T030858Z
UID:490-1579341600-1579352400@www.sticknstone.com.au
SUMMARY:Basic Building Workshop
DESCRIPTION:\n\n\nJoin our boss-lady for a morning of breaking stereotypes.  \n\n\n\nA basic building workshop for everyone! Learn how to use tools and get comfortable with them by working on your own small box drawer. Run through all building basics and apply them in your project. Ask all your questions and get personalized help and guidance. Take home your handmade drawer box at the end. No prior experience is required.  \n\n\n\nIncludes coffee from our food truck and snacks.  \n\n\n\n*If these dates don’t work for you\, send us an email to figure out future dates! \n\n\n\n\n\n\n\n\n\n\n\n\n\n \n
URL:http://www.sticknstone.com.au/calendar/basic-building-workshop/
LOCATION:Stick n Stone\, 30 Carrington Rd\, Marrickville\, 2204\, Australia
END:VEVENT
END:VCALENDAR